BEGIN:VCALENDAR
VERSION:2.0
PRODID:-//Tukios.com/
BEGIN:VEVENT
UID:617c5ab1-a7c3-458c-b311-0dbb7112a96c@www.kennedyfuneralhomechapels.com
DTSTAMP:20260425T191156Z
DTSTART:20260430T180000Z
DTEND:20260430T190000Z
SUMMARY:Funeral Service
DESCRIPTION:
URL:https://www.kennedyfuneralhomechapels.com/obituaries/bill-farris
LOCATION:Scarboro Baptist Church Scarboro Church Road  Twin City GA 30417
GEO:32.5703113;-82.1602504
END:VEVENT
END:VCALENDAR