BEGIN:VCALENDAR
VERSION:2.0
PRODID:-//Tukios.com/
BEGIN:VEVENT
UID:bd755747-5cd1-4e3a-84f9-67ec3b05192e@www.kennedyfuneralhomechapels.com
DTSTAMP:20260425T191528Z
DTSTART:20260429T220000Z
DTEND:20260430T000000Z
SUMMARY:Visitation
DESCRIPTION:
URL:https://www.kennedyfuneralhomechapels.com/obituaries/bill-farris
LOCATION: 223 South East Broad Street  Metter GA 30439
GEO:32.397244;-82.063569
END:VEVENT
END:VCALENDAR